BEGIN:VCALENDAR
VERSION:2.0
PRODID:-//Walter P Moore Technology - ECPv6.15.20//NONSGML v1.0//EN
CALSCALE:GREGORIAN
METHOD:PUBLISH
X-WR-CALNAME:Walter P Moore Technology
X-ORIGINAL-URL:https://wpmtechnology.com
X-WR-CALDESC:Events for Walter P Moore Technology
REFRESH-INTERVAL;VALUE=DURATION:PT1H
X-Robots-Tag:noindex
X-PUBLISHED-TTL:PT1H
BEGIN:VTIMEZONE
TZID:America/Chicago
BEGIN:DAYLIGHT
TZOFFSETFROM:-0600
TZOFFSETTO:-0500
TZNAME:CDT
DTSTART:20250309T080000
END:DAYLIGHT
BEGIN:STANDARD
TZOFFSETFROM:-0500
TZOFFSETTO:-0600
TZNAME:CST
DTSTART:20251102T070000
END:STANDARD
BEGIN:DAYLIGHT
TZOFFSETFROM:-0600
TZOFFSETTO:-0500
TZNAME:CDT
DTSTART:20260308T080000
END:DAYLIGHT
BEGIN:STANDARD
TZOFFSETFROM:-0500
TZOFFSETTO:-0600
TZNAME:CST
DTSTART:20261101T070000
END:STANDARD
BEGIN:DAYLIGHT
TZOFFSETFROM:-0600
TZOFFSETTO:-0500
TZNAME:CDT
DTSTART:20270314T080000
END:DAYLIGHT
BEGIN:STANDARD
TZOFFSETFROM:-0500
TZOFFSETTO:-0600
TZNAME:CST
DTSTART:20271107T070000
END:STANDARD
END:VTIMEZONE
BEGIN:VEVENT
DTSTART;TZID=America/Chicago:20260512T100000
DTEND;TZID=America/Chicago:20260512T110000
DTSTAMP:20260425T104038
CREATED:20260424T150718Z
LAST-MODIFIED:20260424T175827Z
UID:4765-1778580000-1778583600@wpmtechnology.com
SUMMARY:Migration Roulette: The 2026 Guide to Hypervisor Choices
DESCRIPTION:[vc_row][vc_column width=”2/3″ css=”.vc_custom_1718306159592{margin-bottom: 20px !important;}”][vc_column_text css=””] \nRising Hypervisor Costs? Evaluate Your Next Move with Confidence\nThe virtualization market is shifting quickly\, and many organizations are being asked to evaluate cost\, risk\, and long-term flexibility all at once. This session is designed to help IT leaders cut through the noise and compare next-step options with a more practical framework. \nJoin WPM Technology for a practical webinar on hypervisor choices\, cost pressure\, and the decision framework IT leaders need in today’s shifting market. \nWhat You’ll Learn\n\nReduce Cost Uncertainty – Assess licensing exposure and identify the cost drivers impacting your environment.\nCompare Your Options – Evaluate whether it makes more sense to stay put\, optimize your current environment\, or plan a migration.\nUnderstand Market Shifts – Get practical insight into the vendor and virtualization changes affecting mid-market IT teams.\nLeave with a Framework – Walk away with a useful decision-making framework you can use with leadership and stakeholders.\n\n[/vc_column_text][vc_column_text css=””] \nReserve Your Spot\n[/vc_column_text][vc_empty_space height=”15px”][vc_raw_html css=””]JTNDc2NyaXB0JTIwc3JjJTNEJTIyaHR0cHMlM0ElMkYlMkZqcy5oc2Zvcm1zLm5ldCUyRmZvcm1zJTJGZW1iZWQlMkZkZXZlbG9wZXIlMkYyMjQ4NzQxNy5qcyUyMiUyMGRlZmVyJTNFJTNDJTJGc2NyaXB0JTNFJTBBJTNDZGl2JTIwY2xhc3MlM0QlMjJocy1mb3JtLWh0bWwlMjIlMjBkYXRhLXJlZ2lvbiUzRCUyMm5hMSUyMiUyMGRhdGEtZm9ybS1pZCUzRCUyMmQ5NDNkMzg1LWVlYWQtNGU1Ny05NzYwLTk3Y2Q3MDFhOGEyNyUyMiUyMGRhdGEtcG9ydGFsLWlkJTNEJTIyMjI0ODc0MTclMjIlM0UlM0MlMkZkaXYlM0U=[/vc_raw_html][vc_empty_space][/vc_column][vc_column width=”1/3″ css=”.vc_custom_1718306187142{margin-bottom: 10px !important;}”][vc_column_text css=””]Featured Speaker[/vc_column_text][vc_empty_space height=”12px”][vc_row_inner css=”.vc_custom_1718306195211{margin-top: 10px !important;}”][vc_column_inner width=”1/4″][vc_single_image image=”4580″ img_size=”full” onclick=”custom_link” css=”” link=”http://wpmtechnology.com/andy-earnhardt”][/vc_column_inner][vc_column_inner width=”3/4″][vc_column_text css=””]Andy Earnhardt\nSr. IT Infrastructure Analyst\, WPM Technology[/vc_column_text][/vc_column_inner][/vc_row_inner][vc_empty_space height=”12px”][/vc_column][/vc_row]
URL:https://wpmtechnology.com/event/migration-roulette/
LOCATION:Live Online Webinar
ATTACH;FMTTYPE=image/png:https://wpmtechnology.com/wp-content/uploads/2026/04/WPMT_Webinar_May12-2026-v222-1-scaled.png
END:VEVENT
END:VCALENDAR